BEGIN:VCALENDAR
VERSION:2.0
PRODID:-//Taxi Tampa - ECPv6.15.18//NONSGML v1.0//EN
CALSCALE:GREGORIAN
METHOD:PUBLISH
X-ORIGINAL-URL:https://taxitampafl.com
X-WR-CALDESC:Events for Taxi Tampa
REFRESH-INTERVAL;VALUE=DURATION:PT1H
X-Robots-Tag:noindex
X-PUBLISHED-TTL:PT1H
BEGIN:VTIMEZONE
TZID:America/New_York
BEGIN:DAYLIGHT
TZOFFSETFROM:-0500
TZOFFSETTO:-0400
TZNAME:EDT
DTSTART:20230312T070000
END:DAYLIGHT
BEGIN:STANDARD
TZOFFSETFROM:-0400
TZOFFSETTO:-0500
TZNAME:EST
DTSTART:20231105T060000
END:STANDARD
BEGIN:DAYLIGHT
TZOFFSETFROM:-0500
TZOFFSETTO:-0400
TZNAME:EDT
DTSTART:20240310T070000
END:DAYLIGHT
BEGIN:STANDARD
TZOFFSETFROM:-0400
TZOFFSETTO:-0500
TZNAME:EST
DTSTART:20241103T060000
END:STANDARD
BEGIN:DAYLIGHT
TZOFFSETFROM:-0500
TZOFFSETTO:-0400
TZNAME:EDT
DTSTART:20250309T070000
END:DAYLIGHT
BEGIN:STANDARD
TZOFFSETFROM:-0400
TZOFFSETTO:-0500
TZNAME:EST
DTSTART:20251102T060000
END:STANDARD
END:VTIMEZONE
BEGIN:VEVENT
DTSTART;TZID=America/New_York:20240506T080000
DTEND;TZID=America/New_York:20240506T170000
DTSTAMP:20260425T074632
CREATED:20240506T135726Z
LAST-MODIFIED:20240506T135726Z
UID:18591-1714982400-1715014800@taxitampafl.com
SUMMARY:event test 1
DESCRIPTION:
URL:https://taxitampafl.com/event/event-test-1/
END:VEVENT
BEGIN:VEVENT
DTSTART;TZID=America/New_York:20240308T080000
DTEND;TZID=America/New_York:20240308T170000
DTSTAMP:20260425T074632
CREATED:20240308T160647Z
LAST-MODIFIED:20240308T160647Z
UID:17768-1709884800-1709917200@taxitampafl.com
SUMMARY:Test
DESCRIPTION:
URL:https://taxitampafl.com/event/test/
ATTACH;FMTTYPE=image/jpeg:https://taxitampafl.com/wp-content/uploads/2024/03/morsani-interior-empty.jpg
END:VEVENT
END:VCALENDAR